{
 "currentVersion": 11.1,
 "serviceDescription": "public/Agder_ABI_2023_utm33_tif",
 "name": "public/Agder_ABI_2023_utm33_tif",
 "description": "",
 "extent": {
  "xmin": -21808.940006201214,
  "ymin": 6425948.463750652,
  "xmax": 190503.80891763335,
  "ymax": 6640697.5100317765,
  "spatialReference": {
   "wkid": 25833,
   "latestWkid": 25833
  }
 },
 "initialExtent": {
  "xmin": -21808.940006201214,
  "ymin": 6425948.463750652,
  "xmax": 190503.80891763335,
  "ymax": 6640697.5100317765,
  "spatialReference": {
   "wkid": 25833,
   "latestWkid": 25833
  }
 },
 "fullExtent": {
  "xmin": -21808.940006201214,
  "ymin": 6425948.463750652,
  "xmax": 190503.80891763335,
  "ymax": 6640697.5100317765,
  "spatialReference": {
   "wkid": 25833,
   "latestWkid": 25833
  }
 },
 "sortableFields": "",
 "bandCount": 1,
 "pixelType": "F32",
 "minValues": [
  0
 ],
 "maxValues": [
  13.228172302246
 ],
 "meanValues": [
  2.0332346315406
 ],
 "stdvValues": [
  2.9834873695419
 ],
 "hasMultidimensions": false,
 "pixelSizeX": 99.95892133890516,
 "pixelSizeY": 99.97627852938756,
 "datasetFormat": "TIFF",
 "uncompressedSize": 18249408,
 "blockWidth": 128,
 "blockHeight": 128,
 "compressionType": "LZW",
 "bandNames": [
  "Band_1"
 ],
 "allowCopy": true,
 "allowAnalysis": true,
 "itemAccess": false,
 "noDataValue": 3.3999999521443642E38,
 "noDataValues": [
  3.3999999521443642E38
 ],
 "minPixelSize": 0,
 "maxPixelSize": 0,
 "copyrightText": "",
 "serviceDataType": "esriImageServiceDataTypeGeneric",
 "serviceSourceType": "esriImageServiceSourceTypeDataset",
 "objectIdField": "",
 "fields": [],
 "capabilities": "Image,Metadata,Mensuration",
 "defaultMosaicMethod": "Center",
 "allowedMosaicMethods": "",
 "sortField": "",
 "sortValue": null,
 "sortAscending": true,
 "mosaicOperator": "First",
 "defaultCompressionQuality": 75,
 "defaultResamplingMethod": "Bilinear",
 "maxImageHeight": 4100,
 "maxImageWidth": 15000,
 "allowRasterFunction": true,
 "rasterFunctionInfos": [
  {
   "name": "None",
   "description": "",
   "help": ""
  }
 ],
 "rasterTypeInfos": [
  {
   "name": "Raster Dataset",
   "description": "Supports all ArcGIS Raster Datasets",
   "help": ""
  }
 ],
 "mensurationCapabilities": "Basic",
 "hasHistograms": true,
 "hasColormap": false,
 "hasRasterAttributeTable": false,
 "minScale": 0,
 "maxScale": 0,
 "exportTilesAllowed": false,
 "supportsStatistics": false,
 "supportsAdvancedQueries": false,
 "editFieldsInfo": null,
 "ownershipBasedAccessControlForRasters": null,
 "allowComputeTiePoints": false,
 "useStandardizedQueries": true,
 "advancedQueryCapabilities": {
  "useStandardizedQueries": true,
  "supportsStatistics": false,
  "supportsOrderBy": false,
  "supportsDistinct": false,
  "supportsPagination": false
 },
 "spatialReference": {
  "wkid": 25833,
  "latestWkid": 25833
 }
}
