View In:
ArcGIS JavaScript
ArcGIS Online Map Viewer
ArcGIS Earth
Service Description: public/KarbonRikeArealerEvjeOgHornnes
Name: public/KarbonRikeArealerEvjeOgHornnes
Description:
Single Fused Map Cache: false
Extent:
XMin: 64455.60911561863
YMin: 6501017.631004153
XMax: 100155.60911561863
YMax: 6533537.631004153
Spatial Reference: 25833
(25833)
Initial Extent:
XMin: 64455.60911561863
YMin: 6501017.631004153
XMax: 100155.60911561863
YMax: 6533537.631004153
Spatial Reference: 25833
(25833)
Full Extent:
XMin: 64455.60911561863
YMin: 6501017.631004153
XMax: 100155.60911561863
YMax: 6533537.631004153
Spatial Reference: 25833
(25833)
Pixel Size X: 30.0
Pixel Size Y: 30.0
Band Count: 1
Pixel Type: F64
RasterFunction Infos: {"rasterFunctionInfos": [{
"name": "None",
"description": "",
"help": ""
}]}
Mensuration Capabilities: Basic
Has Histograms: true
Has Colormap: false
Has Multi Dimensions : false
Rendering Rule:
Min Scale: 0
Max Scale: 0
Copyright Text:
Service Data Type: esriImageServiceDataTypeGeneric
Min Values: -0.0153066422487679
Max Values: 0.0603647987333512
Mean Values: -0.0026578582957617566
Standard Deviation Values: 0.00479005518706429
Object ID Field:
Fields:
None
Default Mosaic Method: Center
Allowed Mosaic Methods:
SortField:
SortValue: null
Mosaic Operator: First
Default Compression Quality: 75
Default Resampling Method: Bilinear
Max Record Count: null
Max Image Height: 4100
Max Image Width: 15000
Max Download Image Count: null
Max Mosaic Image Count: null
Allow Raster Function: true
Allow Copy: true
Allow Analysis: true
Allow Compute TiePoints: false
Supports Statistics: false
Supports Advanced Queries: false
Use StandardizedQueries: true
Raster Type Infos:
Name: Raster Dataset
Description: Supports all ArcGIS Raster Datasets
Help:
Has Raster Attribute Table: false
Edit Fields Info: null
Ownership Based AccessControl For Rasters: null
Child Resources:
Info
Histograms
Statistics
Key Properties
Legend
Raster Function Infos
Supported Operations:
Export Image
Identify
Measure
Compute Histograms
Compute Statistics Histograms
Get Samples
Compute Class Statistics
Query Boundary
Compute Pixel Location
Compute Angles
Validate
Project