View In:
ArcGIS JavaScript
ArcGIS Online Map Viewer
ArcGIS Earth
Service Description: public/Tredekketap_01_23_Vennesla
Name: public/Tredekketap_01_23_Vennesla
Description:
Single Fused Map Cache: false
Extent:
XMin: 68807.40990000032
YMin: 6474362.1303
XMax: 94875.4899000004
YMax: 6503400.350199999
Spatial Reference: 25833
(25833)
Initial Extent:
XMin: 68807.40990000032
YMin: 6474362.1303
XMax: 94875.4899000004
YMax: 6503400.350199999
Spatial Reference: 25833
(25833)
Full Extent:
XMin: 68807.40990000032
YMin: 6474362.1303
XMax: 94875.4899000004
YMax: 6503400.350199999
Spatial Reference: 25833
(25833)
Pixel Size X: 37.1340170940172
Pixel Size Y: 28.35763662109275
Band Count: 1
Pixel Type: U8
RasterFunction Infos: {"rasterFunctionInfos": [{
"name": "None",
"description": "",
"help": ""
}]}
Mensuration Capabilities: Basic
Has Histograms: true
Has Colormap: false
Has Multi Dimensions : false
Rendering Rule:
Min Scale: 0
Max Scale: 0
Copyright Text:
Service Data Type: esriImageServiceDataTypeGeneric
Min Values: 0
Max Values: 22
Mean Values: 1.0685785400041483
Standard Deviation Values: 4.185793590563545
Object ID Field:
Fields:
None
Default Mosaic Method: Center
Allowed Mosaic Methods:
SortField:
SortValue: null
Mosaic Operator: First
Default Compression Quality: 75
Default Resampling Method: Bilinear
Max Record Count: null
Max Image Height: 4100
Max Image Width: 15000
Max Download Image Count: null
Max Mosaic Image Count: null
Allow Raster Function: true
Allow Copy: true
Allow Analysis: true
Allow Compute TiePoints: false
Supports Statistics: false
Supports Advanced Queries: false
Use StandardizedQueries: true
Raster Type Infos:
Name: Raster Dataset
Description: Supports all ArcGIS Raster Datasets
Help:
Has Raster Attribute Table: false
Edit Fields Info: null
Ownership Based AccessControl For Rasters: null
Child Resources:
Info
Histograms
Statistics
Key Properties
Legend
Raster Function Infos
Supported Operations:
Export Image
Identify
Measure
Compute Histograms
Compute Statistics Histograms
Get Samples
Compute Class Statistics
Query Boundary
Compute Pixel Location
Compute Angles
Validate
Project