View In:
ArcGIS JavaScript
ArcGIS Online Map Viewer
ArcGIS Earth
Service Description: public/Vennesla_ABI_2023
Name: public/Vennesla_ABI_2023
Description:
Single Fused Map Cache: false
Extent:
XMin: 68807.40990000032
YMin: 6474362.1303
XMax: 94875.4899000004
YMax: 6503400.350199999
Spatial Reference: 25833
(25833)
Initial Extent:
XMin: 68807.40990000032
YMin: 6474362.1303
XMax: 94875.4899000004
YMax: 6503400.350199999
Spatial Reference: 25833
(25833)
Full Extent:
XMin: 68807.40990000032
YMin: 6474362.1303
XMax: 94875.4899000004
YMax: 6503400.350199999
Spatial Reference: 25833
(25833)
Pixel Size X: 99.87770114942558
Pixel Size Y: 99.7876972508556
Band Count: 1
Pixel Type: F32
RasterFunction Infos: {"rasterFunctionInfos": [{
"name": "None",
"description": "",
"help": ""
}]}
Mensuration Capabilities: Basic
Has Histograms: true
Has Colormap: false
Has Multi Dimensions : false
Rendering Rule:
Min Scale: 0
Max Scale: 0
Copyright Text:
Service Data Type: esriImageServiceDataTypeGeneric
Min Values: 0
Max Values: 13.19382095336914
Mean Values: 4.2068168156814405
Standard Deviation Values: 3.249320555320299
Object ID Field:
Fields:
None
Default Mosaic Method: Center
Allowed Mosaic Methods:
SortField:
SortValue: null
Mosaic Operator: First
Default Compression Quality: 75
Default Resampling Method: Bilinear
Max Record Count: null
Max Image Height: 4100
Max Image Width: 15000
Max Download Image Count: null
Max Mosaic Image Count: null
Allow Raster Function: true
Allow Copy: true
Allow Analysis: true
Allow Compute TiePoints: false
Supports Statistics: false
Supports Advanced Queries: false
Use StandardizedQueries: true
Raster Type Infos:
Name: Raster Dataset
Description: Supports all ArcGIS Raster Datasets
Help:
Has Raster Attribute Table: false
Edit Fields Info: null
Ownership Based AccessControl For Rasters: null
Child Resources:
Info
Histograms
Statistics
Key Properties
Legend
Raster Function Infos
Supported Operations:
Export Image
Identify
Measure
Compute Histograms
Compute Statistics Histograms
Get Samples
Compute Class Statistics
Query Boundary
Compute Pixel Location
Compute Angles
Validate
Project