View In:
ArcGIS JavaScript
ArcGIS Online Map Viewer
ArcGIS Earth
Service Description: public/Agder_ABI_2023_utm33_tif
Name: public/Agder_ABI_2023_utm33_tif
Description:
Single Fused Map Cache: false
Extent:
XMin: -21808.940006201214
YMin: 6425948.463750652
XMax: 190503.80891763335
YMax: 6640697.5100317765
Spatial Reference: 25833
(25833)
Initial Extent:
XMin: -21808.940006201214
YMin: 6425948.463750652
XMax: 190503.80891763335
YMax: 6640697.5100317765
Spatial Reference: 25833
(25833)
Full Extent:
XMin: -21808.940006201214
YMin: 6425948.463750652
XMax: 190503.80891763335
YMax: 6640697.5100317765
Spatial Reference: 25833
(25833)
Pixel Size X: 99.95892133890516
Pixel Size Y: 99.97627852938756
Band Count: 1
Pixel Type: F32
RasterFunction Infos: {"rasterFunctionInfos": [{
"name": "None",
"description": "",
"help": ""
}]}
Mensuration Capabilities: Basic
Has Histograms: true
Has Colormap: false
Has Multi Dimensions : false
Rendering Rule:
Min Scale: 0
Max Scale: 0
Copyright Text:
Service Data Type: esriImageServiceDataTypeGeneric
Min Values: 0
Max Values: 13.228172302246
Mean Values: 2.0332346315406
Standard Deviation Values: 2.9834873695419
Object ID Field:
Fields:
None
Default Mosaic Method: Center
Allowed Mosaic Methods:
SortField:
SortValue: null
Mosaic Operator: First
Default Compression Quality: 75
Default Resampling Method: Bilinear
Max Record Count: null
Max Image Height: 4100
Max Image Width: 15000
Max Download Image Count: null
Max Mosaic Image Count: null
Allow Raster Function: true
Allow Copy: true
Allow Analysis: true
Allow Compute TiePoints: false
Supports Statistics: false
Supports Advanced Queries: false
Use StandardizedQueries: true
Raster Type Infos:
Name: Raster Dataset
Description: Supports all ArcGIS Raster Datasets
Help:
Has Raster Attribute Table: false
Edit Fields Info: null
Ownership Based AccessControl For Rasters: null
Child Resources:
Info
Histograms
Statistics
Key Properties
Legend
Raster Function Infos
Supported Operations:
Export Image
Identify
Measure
Compute Histograms
Compute Statistics Histograms
Get Samples
Compute Class Statistics
Query Boundary
Compute Pixel Location
Compute Angles
Validate
Project